BEGIN:VCALENDAR
VERSION:2.0
PRODID:DPCALENDAR
CALSCALE:GREGORIAN
X-WR-TIMEZONE:UTC
BEGIN:VEVENT
DTSTART;TZID=Europe/Prague:20260509T100000
DTEND;TZID=Europe/Prague:20260509T180000
UID:2a7dcfde-f196-44db-8087-abccd8b0f3f5
SUMMARY:Campus#4CoolTour: Maker Faire Prague 2026
DTSTAMP:20260106T144708Z
DESCRIPTION:Návštěva 9. ročníku festivalu novodobých kutilů Maker Faire Prague. Nenechte si ujít jedinečnou přehlídku inovací, kreativity a důmyslnosti pro celou rodinu.

Maker Faire je největší světová přehlídka inovací, kreativity a důmyslnosti pro celou rodinu. Je to setkání tvořivých a zvídavých lidí, které baví zkoušet nové věci a neformálně sdílet poznatky a zkušenosti v přátelském prostředí. Částečně zábavný jarmark, ale také veletrh pro “makery” všech generací, ať už inženýry, řemeslníky, umělce, kutily, zahradníky nebo vědce. Je to místo, kde každý může ukázat svůj koníček, vychytávku, “hack”, experiment nebo projekt. Maker Faire zkrátka nabízí všem, aby nejen nahlédli, ale také se podíleli na tom, jak bude vypadat budoucnost.

Na veletrhu můžete vidět:

- 150 makerů
- workshopy a přednášky
- prezentace nejnovějších technologií
- zahraniční speakeři
- doprovodný program
X-ALT-DESC;FMTTYPE=text/html:Návštěva 9. ročníku festivalu novodobých kutilů Maker Faire Prague. Nenechte si ujít jedinečnou přehlídku inovací, kreativity a důmyslnosti pro celou rodinu.

Maker Faire je největší světová přehlídka inovací, kreativity a důmyslnosti pro celou rodinu. Je to setkání tvořivých a zvídavých lidí, které baví zkoušet nové věci a neformálně sdílet poznatky a zkušenosti v přátelském prostředí. Částečně zábavný jarmark, ale také veletrh pro “makery” všech generací, ať už inženýry, řemeslníky, umělce, kutily, zahradníky nebo vědce. Je to místo, kde každý může ukázat svůj koníček, vychytávku, “hack”, experiment nebo projekt. Maker Faire zkrátka nabízí všem, aby nejen nahlédli, ale také se podíleli na tom, jak bude vypadat budoucnost.

Na veletrhu můžete vidět:

- 150 makerů
- workshopy a přednášky
- prezentace nejnovějších technologií
- zahraniční speakeři
- doprovodný program
LOCATION:Výstaviště\, Česko
GEO:50.10654610;14.42984900
X-ACCESS:1
X-HITS:0
X-URL:
X-COLOR:A32929
END:VEVENT
END:VCALENDAR