BEGIN:VCALENDAR
VERSION:2.0
PRODID:DPCALENDAR
CALSCALE:GREGORIAN
X-WR-TIMEZONE:UTC
BEGIN:VEVENT
DTSTART;TZID=Europe/Prague:20260425T180000
DTEND;TZID=Europe/Prague:20260425T234500
UID:dbea0a32-8279-45c4-8a87-d6846984c7e0
SUMMARY:Campus#4Event: Kinect Party vol. 44
DTSTAMP:20260106T152050Z
DESCRIPTION:Campus#4Event

Hey Ho přátelé. V sobotu, 25. dubna od 18:00 Vás všechny zveme do Campus#4, kde se uskuteční v pořadí druhá Kinect Party v roce 2026 a již 44.v historii Campus#4.

Čeká na Vás jako vždy drobné občerstvení, nějaké alko i nealko drinky, no hlavně spousty zábavy, pohybu a tance.

Samozřejmostí je malý battle o co nejvyšší počet bodů za písničku, a výherce dostane od Campus#4 malý dárek jako hlavní cenu.. 
X-ALT-DESC;FMTTYPE=text/html:Campus#4Event

Hey Ho přátelé. V sobotu, 25. dubna od 18:00 Vás všechny zveme do Campus#4, kde se uskuteční v pořadí druhá Kinect Party v roce 2026 a již 44.v historii Campus#4.

Čeká na Vás jako vždy drobné občerstvení, nějaké alko i nealko drinky, no hlavně spousty zábavy, pohybu a tance.

Samozřejmostí je malý battle o co nejvyšší počet bodů za písničku, a výherce dostane od Campus#4 malý dárek jako hlavní cenu.. 
LOCATION:
GEO:0.00000000;0.00000000
LAST-MODIFIED:20260425T131543Z
X-ACCESS:1
X-HITS:0
X-URL:
X-COLOR:A32929
END:VEVENT
END:VCALENDAR